BEGIN:VCALENDAR
VERSION:2.0
PRODID:-//ActiveBury//Events//EN
CALSCALE:GREGORIAN
BEGIN:VEVENT
UID:event-628@activebury.com
DTSTAMP:20260425T133742Z
SUMMARY:Galaxy Gymnastics Open Gym
DTSTART:20260222T103000
DTEND:20260222T120000
LOCATION:337 Civic Ave\, Salisbury\, MD
DESCRIPTION:Open Gym from 10:30am-12pm\n\n$10 per person and/or child\nMore info: https://galaxygymnast.com/open-gyms/\nActiveBury: https://www.activebury.com/events/628
URL:https://www.activebury.com/events/628
END:VEVENT
END:VCALENDAR
