BEGIN:VCALENDAR
VERSION:2.0
PRODID:-//ActiveBury//Events//EN
CALSCALE:GREGORIAN
BEGIN:VEVENT
UID:event-620@activebury.com
DTSTAMP:20260425T133744Z
SUMMARY:Team Trivia at The Irish Penny
DTSTART:20260625T200000
LOCATION:1014 S Salisbury Blvd
DESCRIPTION:A local Thursday event for over 12 years! Game from 8-10pm\, $75 in CASH and gift cards up for grabs\, winners every round!\nMore info: https://eventswithrusty.com/\nActiveBury: https://www.activebury.com/events/620
URL:https://www.activebury.com/events/620
END:VEVENT
END:VCALENDAR
