BEGIN:VCALENDAR
VERSION:2.0
PRODID:-//ActiveBury//Events//EN
CALSCALE:GREGORIAN
BEGIN:VEVENT
UID:event-61@activebury.com
DTSTAMP:20260425T133817Z
SUMMARY:Nature\, Art\, and Service as Medicine with Journalist Julia Hotz
DTSTART:20260120T140000
DTEND:20260120T150000
LOCATION:Virtual
DESCRIPTION:This event is in the "Ages 12-18" group 2:00pm–3:00pm Ages 12-18 Virtual Virtual Event This event is in the "Ages 12-18" group Jan 20 2026 Tue Nature\, Art\, and Service as Medicine with Journalist Julia Hotz 2:00pm–3:00pm Virtual Please note you are looking at an event that has already happened. Virtual Ages 12-18 Book Discussion \, Guest Speaker or Performance \, Virtual Author Talk Be sure to jump start your new year with us as we chat virtually with journalist and author Julia Hotz about her book The Connection Cure: The Prescriptive Power of Movement\, Nature\, Art\, Service\, and Belonging .\nMore info: https://www.wicomicolibrary.org/event/nature-art-and-service-medicine-journalist-julia-hotz-22361\nActiveBury: https://www.activebury.com/events/61
URL:https://www.activebury.com/events/61
END:VEVENT
END:VCALENDAR
