BEGIN:VCALENDAR
VERSION:2.0
PRODID:-//ActiveBury//Events//EN
CALSCALE:GREGORIAN
BEGIN:VEVENT
UID:event-6@activebury.com
DTSTAMP:20260425T133743Z
SUMMARY:Winter Wonderland Concert – Benefit for Save the Train Garden
DTSTART:20260116T200000
DTEND:20260116T220000
LOCATION:447 Race St Cambridge \, MD 21613
DESCRIPTION:Join us for the Winter Wonderland Concert\, a special benefit concert supporting the Cambridge Rescue Fire Company Train Garden. Enjoy an evening of live music and entertainment featuring Jayla Elise and Friends\, with music throughout the night by DJ K.O.T.J. This winter-themed concert brings together great music\, community\, and a great cause in a unique setting. Food and Cash Bar will be available. Event Details: Friday\, January 16\, 2026 Save the Train Garden 447 Race St\, Cambridge\, MD 21613 Doors open at 7pm Show starts at 8pm Tickets: $30 Tickets available online on Eventbrite & in person at the Dorchester County Visitor Center in Cambridge\, MD. For more information\, text (240) 600-7877.\nMore info: https://www.eventbrite.com/e/winter-wonderland-concert-benefit-for-save-the-train-garden-tickets-1979349190712\nActiveBury: https://www.activebury.com/events/6
URL:https://www.activebury.com/events/6
END:VEVENT
END:VCALENDAR
