BEGIN:VCALENDAR
VERSION:2.0
PRODID:-//ActiveBury//Events//EN
CALSCALE:GREGORIAN
BEGIN:VEVENT
UID:event-593@activebury.com
DTSTAMP:20260425T133250Z
SUMMARY:Trivia at Greene Turtle SBY
DTSTART:20260616T180000
DTEND:20260616T210000
LOCATION:2318 North Salisbury Boulevard
DESCRIPTION:HAPPY HOUR ALL DAY!! $3 domestic drafts\, $3 Fireball & selected shots\, $5 LIT & Margarita\, $7 selected apps\, GREAT to be back at the Turtle!\nMore info: https://eventswithrusty.com/\nActiveBury: https://www.activebury.com/events/593
URL:https://www.activebury.com/events/593
END:VEVENT
END:VCALENDAR
