BEGIN:VCALENDAR
VERSION:2.0
PRODID:-//ActiveBury//Events//EN
CALSCALE:GREGORIAN
BEGIN:VEVENT
UID:event-581@activebury.com
DTSTAMP:20260425T152809Z
SUMMARY:Trivia at Greene Turtle SBY
DTSTART:20260324T180000
DTEND:20260324T210000
LOCATION:2318 North Salisbury Boulevard
DESCRIPTION:HAPPY HOUR ALL DAY!! $3 domestic drafts\, $3 Fireball & selected shots\, $5 LIT & Margarita\, $7 selected apps\, GREAT to be back at the Turtle!\nMore info: https://eventswithrusty.com/\nActiveBury: https://www.activebury.com/events/581
URL:https://www.activebury.com/events/581
END:VEVENT
END:VCALENDAR
