BEGIN:VCALENDAR
VERSION:2.0
PRODID:-//ActiveBury//Events//EN
CALSCALE:GREGORIAN
BEGIN:VEVENT
UID:event-58@activebury.com
DTSTAMP:20260425T142336Z
SUMMARY:Laser-Cut Bookmarks: Watch & Create
DTSTART:20260117T100000
DTEND:20260117T120000
LOCATION:Mobile Learning Lab
DESCRIPTION:This event is in the "Ages 6-11" group This event is in the "Ages 12-18" group This event is in the "Ages 18+" group 10:00am–12:00pm Ages 6-11\, Ages 12-18\, Ages 18+ Mobile Learning Lab Offsite Event This event is in the "Ages 6-11" group This event is in the "Ages 12-18" group This event is in the "Ages 18+" group Jan 17 2026 Sat Laser-Cut Bookmarks: Watch & Create 10:00am–12:00pm Mobile Learning Lab Please note you are looking at an event that has already happened. Mobile Learning Lab Ages 6-11 \, Ages 12-18 \, Ages 18+ Arts and Crafts \, Technology See a laser engraver in action! Watch a live demonstration of laser cutting\, then decorate your own laser-cut wooden bookmark to take home. A fun mix of technology and creativity for all ages.\nMore info: https://www.wicomicolibrary.org/event/laser-cut-bookmark-decorating-20803\nActiveBury: https://www.activebury.com/events/58
URL:https://www.activebury.com/events/58
END:VEVENT
END:VCALENDAR
