BEGIN:VCALENDAR
VERSION:2.0
PRODID:-//ActiveBury//Events//EN
CALSCALE:GREGORIAN
BEGIN:VEVENT
UID:event-569@activebury.com
DTSTAMP:20260425T133310Z
SUMMARY:Team Trivia at Mojo's
DTSTART:20260629T190000
LOCATION:213-215 East Main St
DESCRIPTION:Game from 7-9pm\, music til 10pm\, $50 in gift cards up for grabs\, winners every round! Mondays are $6 pizza and $4 pitcher nights too!\nMore info: https://eventswithrusty.com/\nActiveBury: https://www.activebury.com/events/569
URL:https://www.activebury.com/events/569
END:VEVENT
END:VCALENDAR
