BEGIN:VCALENDAR
VERSION:2.0
PRODID:-//ActiveBury//Events//EN
CALSCALE:GREGORIAN
BEGIN:VEVENT
UID:event-55@activebury.com
DTSTAMP:20260425T133301Z
SUMMARY:Stepping Stones ELC
DTSTART:20260116T083000
DTEND:20260116T100000
LOCATION:Bookmobile
DESCRIPTION:This event is in the "Everyone" group 8:30am–10:00am Everyone Bookmobile Offsite Event This event is in the "Everyone" group Jan 16 2026 Fri Stepping Stones ELC 8:30am–10:00am Bookmobile Please note you are looking at an event that has already happened. Bookmobile Everyone 721 S. Schumaker Dr.\nMore info: https://www.wicomicolibrary.org/event/stepping-stones-elc-20304\nActiveBury: https://www.activebury.com/events/55
URL:https://www.activebury.com/events/55
END:VEVENT
END:VCALENDAR
