BEGIN:VCALENDAR
VERSION:2.0
PRODID:-//ActiveBury//Events//EN
CALSCALE:GREGORIAN
BEGIN:VEVENT
UID:event-536@activebury.com
DTSTAMP:20260425T134346Z
SUMMARY:Roadie Joes Trivia Night!
DTSTART:20260506T190000
DTEND:20260506T220000
LOCATION:213 W Main St Salisbury\, MD 21801
DESCRIPTION:Test your knowledge! Hosted every Wednesday night by DJ Rusty Griswald at 7 pm. Winners every round!! Food & drink specials all night long\nMore info: https://roadiejoes.com/events/\nActiveBury: https://www.activebury.com/events/536
URL:https://www.activebury.com/events/536
END:VEVENT
END:VCALENDAR
