BEGIN:VCALENDAR
VERSION:2.0
PRODID:-//ActiveBury//Events//EN
CALSCALE:GREGORIAN
BEGIN:VEVENT
UID:event-53@activebury.com
DTSTAMP:20260425T133742Z
SUMMARY:Preschool Storytime
DTSTART:20260115T103000
DTEND:20260115T113000
LOCATION:Paul S. Sarbanes Branch
DESCRIPTION:This event is in the "Ages 0-5" group 10:30am–11:30am Ages 0-5 Paul S. Sarbanes Branch Closed Registration Available This event is in the "Ages 0-5" group Jan 15 2026 Thu Preschool Storytime 10:30am–11:30am Paul S. Sarbanes Branch Closed Please note you are looking at an event that has already happened. Paul S. Sarbanes Branch Children's Program Room Ages 0-5 Storytime Registration Available At a Glance: For ages 3–5 and their caregivers\, this storytime includes longer stories\, songs\, and creative activities that build school readiness. Meets the first and third Thursday of each month. (s) Attending Children Children under 8 must be monitored by a guardian who is at least 13 years old to assure the safety and behavior of that child. Children ages 8 and older may visit the library independe\nMore info: https://www.wicomicolibrary.org/event/preschool-storytime-21501\nActiveBury: https://www.activebury.com/events/53
URL:https://www.activebury.com/events/53
END:VEVENT
END:VCALENDAR
