BEGIN:VCALENDAR
VERSION:2.0
PRODID:-//ActiveBury//Events//EN
CALSCALE:GREGORIAN
BEGIN:VEVENT
UID:event-52@activebury.com
DTSTAMP:20260425T133249Z
SUMMARY:Willards School
DTSTART:20260115T090000
DTEND:20260115T143000
LOCATION:Bookmobile
DESCRIPTION:This event is in the "Everyone" group 9:00am–2:30pm Everyone Bookmobile Offsite Event This event is in the "Everyone" group Jan 15 2026 Thu Willards School 9:00am–2:30pm Bookmobile Please note you are looking at an event that has already happened. Bookmobile Everyone 36161 Richland Rd.\, Willards\nMore info: https://www.wicomicolibrary.org/event/willards-school-20172\nActiveBury: https://www.activebury.com/events/52
URL:https://www.activebury.com/events/52
END:VEVENT
END:VCALENDAR
