BEGIN:VCALENDAR
VERSION:2.0
PRODID:-//ActiveBury//Events//EN
CALSCALE:GREGORIAN
BEGIN:VEVENT
UID:event-515@activebury.com
DTSTAMP:20260425T111141Z
SUMMARY:Tom Flanagan
DTSTART:20260117T140000
DTEND:20260117T170000
LOCATION:Bordeleau Vineyard & Winery\, 3155 Noble Farm Road\, Eden\, MD 21822
DESCRIPTION:More info: https://www.bordeleauwine.com/events\nActiveBury: https://www.activebury.com/events/515
URL:https://www.activebury.com/events/515
END:VEVENT
END:VCALENDAR
