BEGIN:VCALENDAR
VERSION:2.0
PRODID:-//ActiveBury//Events//EN
CALSCALE:GREGORIAN
BEGIN:VEVENT
UID:event-514@activebury.com
DTSTAMP:20260425T134359Z
SUMMARY:Music BINGO w/DJ Slim
DTSTART:20260111T130000
DTEND:20260111T160000
LOCATION:Bordeleau Vineyard & Winery\, 3155 Noble Farm Road\, Eden\, MD 21822
DESCRIPTION:More info: https://www.bordeleauwine.com/events\nActiveBury: https://www.activebury.com/events/514
URL:https://www.activebury.com/events/514
END:VEVENT
END:VCALENDAR
