BEGIN:VCALENDAR
VERSION:2.0
PRODID:-//ActiveBury//Events//EN
CALSCALE:GREGORIAN
BEGIN:VEVENT
UID:event-513@activebury.com
DTSTAMP:20260425T133329Z
SUMMARY:Ally & Chris
DTSTART:20260110T140000
DTEND:20260110T170000
LOCATION:Bordeleau Vineyard & Winery\, 3155 Noble Farm Road\, Eden\, MD 21822
DESCRIPTION:More info: https://www.bordeleauwine.com/events\nActiveBury: https://www.activebury.com/events/513
URL:https://www.activebury.com/events/513
END:VEVENT
END:VCALENDAR
