BEGIN:VCALENDAR
VERSION:2.0
PRODID:-//ActiveBury//Events//EN
CALSCALE:GREGORIAN
BEGIN:VEVENT
UID:event-512@activebury.com
DTSTAMP:20260425T134344Z
SUMMARY:Music BINGO w/DJ Slim
DTSTART:20260104T130000
DTEND:20260104T160000
LOCATION:Bordeleau Vineyard & Winery\, 3155 Noble Farm Road\, Eden\, MD 21822
DESCRIPTION:More info: https://www.bordeleauwine.com/events\nActiveBury: https://www.activebury.com/events/512
URL:https://www.activebury.com/events/512
END:VEVENT
END:VCALENDAR
