BEGIN:VCALENDAR
VERSION:2.0
PRODID:-//ActiveBury//Events//EN
CALSCALE:GREGORIAN
BEGIN:VEVENT
UID:event-5@activebury.com
DTSTAMP:20260425T133742Z
SUMMARY:Traveling Exhibit: Civil War Era African American History in the US/Mexico Borderlands
DTSTART:20260124T100000
DTEND:20260124T160000
DESCRIPTION:More info: https://dnr.maryland.gov/publiclands/pages/eastern/tubman.aspx\nActiveBury: https://www.activebury.com/events/5
URL:https://www.activebury.com/events/5
END:VEVENT
END:VCALENDAR
