BEGIN:VCALENDAR
VERSION:2.0
PRODID:-//ActiveBury//Events//EN
CALSCALE:GREGORIAN
BEGIN:VEVENT
UID:event-499@activebury.com
DTSTAMP:20260425T133831Z
SUMMARY:Tots- To- Teens: Bears
DTSTART;VALUE=DATE:20260131
DTEND;VALUE=DATE:20260201
LOCATION:Delmarva Discovery Center & Museum | 2 Market Street - Pocomoke\, MD\, 21851
DESCRIPTION:Delmarva Discovery Museum is hosting Tots- to- Teens: Bears on January 31st! This event is great for kids of all ages! We will be available at 11 AM...\nMore info: https://www.ococean.com/event/tots-to-teens%3a-bears/2589/\nActiveBury: https://www.activebury.com/events/499
URL:https://www.activebury.com/events/499
END:VEVENT
END:VCALENDAR
