BEGIN:VCALENDAR
VERSION:2.0
PRODID:-//ActiveBury//Events//EN
CALSCALE:GREGORIAN
BEGIN:VEVENT
UID:event-498@activebury.com
DTSTAMP:20260425T133814Z
SUMMARY:Toddler Time at the Museum
DTSTART;VALUE=DATE:20260109
DTEND;VALUE=DATE:20260110
LOCATION:Delmarva Discovery Center & Museum | 2 Market Street - Pocomoke\, MD\, 21851
DESCRIPTION:Toddler Time at the Museum is Friday January 9th from 10 AM - 11 AM. This early opening is great for kids aged 0-5 and their families! Normal...\nMore info: https://www.ococean.com/event/toddler-time-at-the-museum/2586/\nActiveBury: https://www.activebury.com/events/498
URL:https://www.activebury.com/events/498
END:VEVENT
END:VCALENDAR
