BEGIN:VCALENDAR
VERSION:2.0
PRODID:-//ActiveBury//Events//EN
CALSCALE:GREGORIAN
BEGIN:VEVENT
UID:event-497@activebury.com
DTSTAMP:20260425T133330Z
SUMMARY:The Pointer Sisters
DTSTART;VALUE=DATE:20260115
DTEND;VALUE=DATE:20260116
LOCATION:Ocean City Performing Arts Center | 4001 Coastal Hwy Convention Center - Ocean City\, MD\, 21801
DESCRIPTION:The Pointer Sisters began singing in their father’s church in West Oakland\, California\, and went on to make music history as one of the most dynamic...\nMore info: https://www.ococean.com/event/the-pointer-sisters/2523/\nActiveBury: https://www.activebury.com/events/497
URL:https://www.activebury.com/events/497
END:VEVENT
END:VCALENDAR
