BEGIN:VCALENDAR
VERSION:2.0
PRODID:-//ActiveBury//Events//EN
CALSCALE:GREGORIAN
BEGIN:VEVENT
UID:event-496@activebury.com
DTSTAMP:20260425T133832Z
SUMMARY:Story Time at the Museum
DTSTART;VALUE=DATE:20260113
DTEND;VALUE=DATE:20260114
LOCATION:Delmarva Discovery Center & Museum | 2 Market Street - Pocomoke\, MD\, 21851
DESCRIPTION:The Delmarva Discovery Museum &amp\; Worcester County Maryland Library are "Beary" excited for Story Time at the Museum. Join January 13th us from...\nMore info: https://www.ococean.com/event/story-time-at-the-museum/2587/\nActiveBury: https://www.activebury.com/events/496
URL:https://www.activebury.com/events/496
END:VEVENT
END:VCALENDAR
