BEGIN:VCALENDAR
VERSION:2.0
PRODID:-//ActiveBury//Events//EN
CALSCALE:GREGORIAN
BEGIN:VEVENT
UID:event-495@activebury.com
DTSTAMP:20260425T133302Z
SUMMARY:Shared Visions Reading
DTSTART;VALUE=DATE:20260120
DTEND;VALUE=DATE:20260121
LOCATION:Art League of Ocean City Center for the Arts | 502 94th St. - Ocean City\, MD\, 21842
DESCRIPTION:Meet the artists and writers of this year’s “Shared Visions” collaboration. Hear readings of the poetry and prose inspired by the artwork on display....\nMore info: https://www.ococean.com/event/shared-visions-reading/2595/\nActiveBury: https://www.activebury.com/events/495
URL:https://www.activebury.com/events/495
END:VEVENT
END:VCALENDAR
