BEGIN:VCALENDAR
VERSION:2.0
PRODID:-//ActiveBury//Events//EN
CALSCALE:GREGORIAN
BEGIN:VEVENT
UID:event-494@activebury.com
DTSTAMP:20260425T133817Z
SUMMARY:Shadows of the 60's
DTSTART;VALUE=DATE:20260116
DTEND;VALUE=DATE:20260117
LOCATION:Ocean City Performing Arts Center | 4001 Coastal Hwy Convention Center - Ocean City\, MD\, 21801
DESCRIPTION:Take that cherished ride down memory lane with the number one Motown Tribute production in America. Singalong to\, dance to and relish in the...\nMore info: https://www.ococean.com/event/shadows-of-the-60s/2522/\nActiveBury: https://www.activebury.com/events/494
URL:https://www.activebury.com/events/494
END:VEVENT
END:VCALENDAR
