BEGIN:VCALENDAR
VERSION:2.0
PRODID:-//ActiveBury//Events//EN
CALSCALE:GREGORIAN
BEGIN:VEVENT
UID:event-493@activebury.com
DTSTAMP:20260425T133418Z
SUMMARY:Little Explorers: Bears
DTSTART;VALUE=DATE:20260115
DTEND;VALUE=DATE:20260116
LOCATION:Delmarva Discovery Center & Museum | 2 Market Street - Pocomoke\, MD\, 21851
DESCRIPTION:Our next installment of Little Explorers With... is on January 15th with 2 sessions at 10 AM and 11 AM. We will be making our own Sleeping Bear Cave...\nMore info: https://www.ococean.com/event/little-explorers%3a-bears/2588/\nActiveBury: https://www.activebury.com/events/493
URL:https://www.activebury.com/events/493
END:VEVENT
END:VCALENDAR
