BEGIN:VCALENDAR
VERSION:2.0
PRODID:-//ActiveBury//Events//EN
CALSCALE:GREGORIAN
BEGIN:VEVENT
UID:event-4922@activebury.com
DTSTAMP:20260425T134930Z
SUMMARY:Artist Kathy Buschi's Spring Open House
DTSTART;VALUE=DATE:20260502
DTEND;VALUE=DATE:20260504
DESCRIPTION:Find Us Contact Home Search Search Menu X Z Accommodations Hotels Motels Bed & Breakfasts Weekly Rental Agencies Weekly Rentals by Owner Accommodations by Type All Accommodations X Z Restaurants & Food Breakfast Lunch Carry Out Catering Fine Dining Waterfront Dining Restaurants by Cuisine All Restaurants & Food X Z Events & Activities Movie Times Calendar of Events Beaches and Parks Golf Courses Rehoboth Golf Directory Kid Stuff Family Fun Rainy Day Fun All Activities X Z Nightlife Nightlife Music Schedules Movie Times X Z Shop Apparel The Outlets Complete Shop Directory X Z Business Directory Featured Businesses Pay/Purchase Advertising Pay/Purchase Advertising Business Directory X Z Real Estate Main Real Estate Looking to Buy? Trying to Sell? Sales Agencies Weekly Rental Agencies Vacation/Year-Round Rentals Commercial Real Estate Building/Home Improvement Other Helpful Links X Z Community Our Community Visitor's Services & Parking Local News & Traffic Local Weather Transportation Beach Weddings Rehoboth Beach FAQ to Rehoboth Jobs Town History My Rehoboth Advertise With Us Pay/Purchase Advertising Saturday\, May 02 - Sunday\, May 03 Artist Kathy Buschi's Spring Open House 10-3 both days . Our art gallery and framing shop is in the barn located next to our home at 15276 Hudson Rd.\, Milton\, DE 19968. You are welcome to bring guests and do not need to call. If you need any framing done\, feel free to bring your artwork to the Open House. If those dates or times don’t work for you\, or you would like a private visit\, feel free to give a call at 302-645-7109 to schedule another time. Please call ahead to make sure we’ll be here. If we are home\, we are open! If you need any framing done\, feel free to bring your artwork to the Open House. www.BuschiArt.com 302-645-7109 Search Rehoboth.com Search Search\nMore info: https://www.rehoboth.com/event-details.html?view=detail&eventID=5139\nActiveBury: https://www.activebury.com/events/4922
URL:https://www.activebury.com/events/4922
END:VEVENT
END:VCALENDAR
