BEGIN:VCALENDAR
VERSION:2.0
PRODID:-//ActiveBury//Events//EN
CALSCALE:GREGORIAN
BEGIN:VEVENT
UID:event-492@activebury.com
DTSTAMP:20260425T133246Z
SUMMARY:Evolution of Pop
DTSTART;VALUE=DATE:20260117
DTEND;VALUE=DATE:20260118
LOCATION:Ocean City Performing Arts Center | 4001 Coastal Hwy Convention Center - Ocean City\, MD\, 21801
DESCRIPTION:Pop music. It’s the songs with catchy hooks and captivating grooves that reverberate all over the globe. These songs connect us across oceans and...\nMore info: https://www.ococean.com/event/evolution-of-pop/2524/\nActiveBury: https://www.activebury.com/events/492
URL:https://www.activebury.com/events/492
END:VEVENT
END:VCALENDAR
