BEGIN:VCALENDAR
VERSION:2.0
PRODID:-//ActiveBury//Events//EN
CALSCALE:GREGORIAN
BEGIN:VEVENT
UID:event-491@activebury.com
DTSTAMP:20260425T133818Z
SUMMARY:Delmarva Art & Wool Expo
DTSTART:20260116T100000
DTEND:20260118T170000
LOCATION:Ocean City Convention Center-Dockside Room | 4001 Coastal Hwy - Ocean City\, MD\, 21842
DESCRIPTION:Friday\, January 16\, 10 AM to 5 PM\, Saturday\, January 17\, 10 AM to 5 PM\, and Sunday\, January 18\, 10 AM to 3 PM\n\nCLASSES\, DEMONSTRATIONS\, and VENDORS – There were many\, some old and some new. They were great.\nVENDORS – We would like to thank you for being in our show\, which was held January 17 through 19\, 2025.\n\nThe 2025 show was held at the Ocean City Convention Center. This is an inside show with electricity at all booths.\n\nRegistration is open. There is a $25.00 discount for those who are registered before November 1\, 2025. Click here to register.\n\nThanks\,\n\nSusan Childs\nMore info: https://www.ococean.com/event/delmarva-art-%26-wool-expo/2564/\nActiveBury: https://www.activebury.com/events/491
URL:https://www.activebury.com/events/491
END:VEVENT
END:VCALENDAR
