BEGIN:VCALENDAR
VERSION:2.0
PRODID:-//ActiveBury//Events//EN
CALSCALE:GREGORIAN
BEGIN:VEVENT
UID:event-490@activebury.com
DTSTAMP:20260425T133246Z
SUMMARY:Chicago
DTSTART;VALUE=DATE:20260107
DTEND;VALUE=DATE:20260108
LOCATION:Ocean City Performing Arts Center | 4001 Coastal Hwy Convention Center - Ocean City\, MD\, 21842
DESCRIPTION:Chicago is still the one musical with everything that makes Broadway shimmy-shake: a universal tale of fame\, fortune\, and all that jazz\, with one...\nMore info: https://www.ococean.com/event/chicago/2389/\nActiveBury: https://www.activebury.com/events/490
URL:https://www.activebury.com/events/490
END:VEVENT
END:VCALENDAR
