BEGIN:VCALENDAR
VERSION:2.0
PRODID:-//ActiveBury//Events//EN
CALSCALE:GREGORIAN
BEGIN:VEVENT
UID:event-49@activebury.com
DTSTAMP:20260425T163654Z
SUMMARY:Clicking With Confidence
DTSTART:20260114T103000
DTEND:20260114T120000
LOCATION:Paul S. Sarbanes Branch
DESCRIPTION:This event is in the "Ages 18+" group 10:30am–12:00pm Ages 18+ Paul S. Sarbanes Branch Closed Registration Available This event is in the "Ages 18+" group Jan 14 2026 Wed Clicking With Confidence 10:30am–12:00pm Paul S. Sarbanes Branch Closed Please note you are looking at an event that has already happened. Paul S. Sarbanes Branch STEAM Studio Ages 18+ Class or Workshop \, Technology Registration Available This is a 10 week long digital literacy program which aims to build skills step by step\, from powering on a device to navigating the internet and communicating safely online.\nMore info: https://www.wicomicolibrary.org/event/clicking-confidence-21605\nActiveBury: https://www.activebury.com/events/49
URL:https://www.activebury.com/events/49
END:VEVENT
END:VCALENDAR
