BEGIN:VCALENDAR
VERSION:2.0
PRODID:-//ActiveBury//Events//EN
CALSCALE:GREGORIAN
BEGIN:VEVENT
UID:event-489@activebury.com
DTSTAMP:20260425T133303Z
SUMMARY:2026 AGH Penguin Swim
DTSTART;VALUE=DATE:20260101
DTEND;VALUE=DATE:20260102
LOCATION:91st Street and the Beach | 9100 Coastal Highway - Ocean City\, MD\, 21842
DESCRIPTION:The Penguin Swim is a fun\, annual event to support our not-for-profit community hospital. Each year\, hundreds of Penguins raise funds to help the...\nMore info: https://www.ococean.com/event/2026-agh-penguin-swim/2550/\nActiveBury: https://www.activebury.com/events/489
URL:https://www.activebury.com/events/489
END:VEVENT
END:VCALENDAR
