BEGIN:VCALENDAR
VERSION:2.0
PRODID:-//ActiveBury//Events//EN
CALSCALE:GREGORIAN
BEGIN:VEVENT
UID:event-4874@activebury.com
DTSTAMP:20260425T134930Z
SUMMARY:Gundam Card Game Phantom Aria [GD04] Release Event
DTSTART:20260430T180000
LOCATION:Kent Island
DESCRIPTION:More info: https://portalsshop.com/products/04-30-26-6pm-kent-island-gundam-card-game-phantom-aria-gd04-release-event\nActiveBury: https://www.activebury.com/events/4874
URL:https://www.activebury.com/events/4874
END:VEVENT
END:VCALENDAR
