BEGIN:VCALENDAR
VERSION:2.0
PRODID:-//ActiveBury//Events//EN
CALSCALE:GREGORIAN
BEGIN:VEVENT
UID:event-4802@activebury.com
DTSTAMP:20260425T134845Z
SUMMARY:2026 Annual Regional Chamber Mixer
DTSTART:20260514T173000
DTEND:20260514T193000
LOCATION:Chesapeake College - Caroline Center\, 1000 College Circle\, Wye Mills\, MD 21619
DESCRIPTION:More info: http://www.dorchesterchamber.org\nActiveBury: https://www.activebury.com/events/4802
URL:https://www.activebury.com/events/4802
END:VEVENT
END:VCALENDAR
