BEGIN:VCALENDAR
VERSION:2.0
PRODID:-//ActiveBury//Events//EN
CALSCALE:GREGORIAN
BEGIN:VEVENT
UID:event-4791@activebury.com
DTSTAMP:20260425T134925Z
SUMMARY:Cambridge City Council Meeting
DTSTART:20260511T180000
DTEND:20260511T200000
LOCATION:City Council Chambers\, 305 Gay Street\, Cambridge\, MD 21613
DESCRIPTION:More info: https://www.choosecambridge.com\nActiveBury: https://www.activebury.com/events/4791
URL:https://www.activebury.com/events/4791
END:VEVENT
END:VCALENDAR
