BEGIN:VCALENDAR
VERSION:2.0
PRODID:-//ActiveBury//Events//EN
CALSCALE:GREGORIAN
BEGIN:VEVENT
UID:event-4772@activebury.com
DTSTAMP:20260425T134925Z
SUMMARY:Kentucky Derby at CGE Moose with Chainbreak
DTSTART:20260502T190000
DTEND:20260502T230000
LOCATION:Cambridge Moose Lodge\, 5438 Moose Lodge Road\, Cambridge\, MD 21613
DESCRIPTION:More info: https://www.facebook.com/profile.php?id=61585304571246\nActiveBury: https://www.activebury.com/events/4772
URL:https://www.activebury.com/events/4772
END:VEVENT
END:VCALENDAR
