BEGIN:VCALENDAR
VERSION:2.0
PRODID:-//ActiveBury//Events//EN
CALSCALE:GREGORIAN
BEGIN:VEVENT
UID:event-4752@activebury.com
DTSTAMP:20260425T134346Z
SUMMARY:Mary's SURPRISE Retirement Party
DTSTART:20260426T130000
DTEND:20260426T160000
LOCATION:Old Salty's Restaurant\, 2560 Hoopers Island Road\, Fishing Creek\, MD 21634
DESCRIPTION:More info: http://www.oldsaltys.com\nActiveBury: https://www.activebury.com/events/4752
URL:https://www.activebury.com/events/4752
END:VEVENT
END:VCALENDAR
