BEGIN:VCALENDAR
VERSION:2.0
PRODID:-//ActiveBury//Events//EN
CALSCALE:GREGORIAN
BEGIN:VEVENT
UID:event-4732@activebury.com
DTSTAMP:20260425T134420Z
SUMMARY:Behind the Bay Doors: RFC Open House
DTSTART:20260418T100000
DTEND:20260418T160000
LOCATION:Rescue Fire Company\, 8 Washington Street\, Cambridge\, MD 21613
DESCRIPTION:More info: http://www.rescuefirecompany.org\nActiveBury: https://www.activebury.com/events/4732
URL:https://www.activebury.com/events/4732
END:VEVENT
END:VCALENDAR
