BEGIN:VCALENDAR
VERSION:2.0
PRODID:-//ActiveBury//Events//EN
CALSCALE:GREGORIAN
BEGIN:VEVENT
UID:event-4690@activebury.com
DTSTAMP:20260425T134359Z
SUMMARY:Chair Yoga with Dannon Poust
DTSTART:20260508T160000
DTEND:20260508T164500
LOCATION:Island Community House\, 6246 Mumford Street\, Chincoteague Island\, VA 23336
DESCRIPTION:Chair Yoga with Dannon Poust Cost $20 Fridays\, 4:00-4:45pm starting February 20th Explore the benefits of a Chair Yoga Class. Ideal for beginners\, seniors\, or those with limited ability. For payment\, please bring cash or pay via Venmo: @Dannon-Poust\nMore info: https://chincoteaguechamber.icnd-cdn.com/images/events/ich chair yoga 2026.jpg\nActiveBury: https://www.activebury.com/events/4690
URL:https://www.activebury.com/events/4690
END:VEVENT
END:VCALENDAR
