BEGIN:VCALENDAR
VERSION:2.0
PRODID:-//ActiveBury//Events//EN
CALSCALE:GREGORIAN
BEGIN:VEVENT
UID:event-46@activebury.com
DTSTAMP:20260425T133744Z
SUMMARY:The Creative and Compassionate Art of Seeing Others Deeply with David Brooks
DTSTART:20260113T140000
DTEND:20260113T150000
LOCATION:Virtual
DESCRIPTION:This event is in the "Ages 18+" group 2:00pm–3:00pm Ages 18+ Virtual Virtual Event This event is in the "Ages 18+" group Jan 13 2026 Tue The Creative and Compassionate Art of Seeing Others Deeply with David Brooks 2:00pm–3:00pm Virtual Please note you are looking at an event that has already happened. Virtual Ages 18+ Book Discussion \, Guest Speaker or Performance \, Virtual Author Talk Join us for an online discussion with prominent cultural writer and bestselling author David Brooks on his book\, How to Know a Person: The Art of Seeing Others Deeply \, in which he helps us pose essential questions: If you want to know a p\nMore info: https://www.wicomicolibrary.org/event/leading-cultural-and-political-commentator-and-bestselling-author-road-character-22360\nActiveBury: https://www.activebury.com/events/46
URL:https://www.activebury.com/events/46
END:VEVENT
END:VCALENDAR
