BEGIN:VCALENDAR
VERSION:2.0
PRODID:-//ActiveBury//Events//EN
CALSCALE:GREGORIAN
BEGIN:VEVENT
UID:event-4574@activebury.com
DTSTAMP:20260424T224157Z
SUMMARY:Crime and a Cuppa
DTSTART:20260530T100000
DTEND:20260530T110000
LOCATION:Centreville Meeting Room
DESCRIPTION:Join mystery reader extraordinaire Kathleen Wilson in an hour of mystery\, humor and thrills as she discusses her favorite new and old crime novels. Grab a cuppa and a seat for...\nMore info: https://calendar.qaclibrary.org/event/16094134?hs=a\nActiveBury: https://www.activebury.com/events/4574
URL:https://www.activebury.com/events/4574
END:VEVENT
END:VCALENDAR
