BEGIN:VCALENDAR
VERSION:2.0
PRODID:-//ActiveBury//Events//EN
CALSCALE:GREGORIAN
BEGIN:VEVENT
UID:event-4573@activebury.com
DTSTAMP:20260424T224058Z
SUMMARY:Chess Club (8-13 yrs)
DTSTART:20260526T170000
DTEND:20260526T180000
LOCATION:Kent Island Meeting Room 128
DESCRIPTION:Ages 8-13 Join our library's Chess Club! Sharpen your strategic skills and make new friends with local player\, Gavin Taylor. Whether you're a complete beginner or seasoned player\,...\nMore info: https://calendar.qaclibrary.org/event/16139908?hs=a\nActiveBury: https://www.activebury.com/events/4573
URL:https://www.activebury.com/events/4573
END:VEVENT
END:VCALENDAR
