BEGIN:VCALENDAR
VERSION:2.0
PRODID:-//ActiveBury//Events//EN
CALSCALE:GREGORIAN
BEGIN:VEVENT
UID:event-4571@activebury.com
DTSTAMP:20260424T224058Z
SUMMARY:Library Closed
DTSTART;VALUE=DATE:20260525
DTEND;VALUE=DATE:20260526
DESCRIPTION:The library will be closed today. We apologize for the inconvenience.\nMore info: https://calendar.qaclibrary.org/event/15477414?hs=a\nActiveBury: https://www.activebury.com/events/4571
URL:https://www.activebury.com/events/4571
END:VEVENT
END:VCALENDAR
