BEGIN:VCALENDAR
VERSION:2.0
PRODID:-//ActiveBury//Events//EN
CALSCALE:GREGORIAN
BEGIN:VEVENT
UID:event-4570@activebury.com
DTSTAMP:20260424T224327Z
SUMMARY:Painting Sun Catchers (6-17yrs)
DTSTART:20260523T143000
DTEND:20260523T153000
LOCATION:Centreville Meeting Room
DESCRIPTION:Ages 6-17 Prepare for summer dreams by painting a sun catcher for your window using spring themed plastic sun catchers and paint. All abilities welcome!\nMore info: https://calendar.qaclibrary.org/event/16210160?hs=a\nActiveBury: https://www.activebury.com/events/4570
URL:https://www.activebury.com/events/4570
END:VEVENT
END:VCALENDAR
