BEGIN:VCALENDAR
VERSION:2.0
PRODID:-//ActiveBury//Events//EN
CALSCALE:GREGORIAN
BEGIN:VEVENT
UID:event-4569@activebury.com
DTSTAMP:20260424T225206Z
SUMMARY:Family Music Class with Mrs. Efland (All ages)
DTSTART:20260523T103000
DTEND:20260523T111500
LOCATION:Kent Island Meeting Room 128
DESCRIPTION:All Ages Drum\, dance\, wiggle\, and giggle in this fun filled music class! Mrs. Efland will guide us through various musical activities utilizing multiple mediums that are fun for...\nMore info: https://calendar.qaclibrary.org/event/16208510?hs=a\nActiveBury: https://www.activebury.com/events/4569
URL:https://www.activebury.com/events/4569
END:VEVENT
END:VCALENDAR
