BEGIN:VCALENDAR
VERSION:2.0
PRODID:-//ActiveBury//Events//EN
CALSCALE:GREGORIAN
BEGIN:VEVENT
UID:event-4568@activebury.com
DTSTAMP:20260424T224226Z
SUMMARY:Tiny Art (4-17 yrs)
DTSTART:20260522T130000
DTEND:20260522T163000
LOCATION:Centreville Children's Room
DESCRIPTION:Ages: 4-17 Tiny art is a drop-in art experience where you can create tiny works of art using paint pens and mini canvases. Come by anytime between 10am and 4pm!\nMore info: https://calendar.qaclibrary.org/event/16245318?hs=a\nActiveBury: https://www.activebury.com/events/4568
URL:https://www.activebury.com/events/4568
END:VEVENT
END:VCALENDAR
