BEGIN:VCALENDAR
VERSION:2.0
PRODID:-//ActiveBury//Events//EN
CALSCALE:GREGORIAN
BEGIN:VEVENT
UID:event-4567@activebury.com
DTSTAMP:20260424T224207Z
SUMMARY:Family Law Clinic
DTSTART:20260521T170000
DTEND:20260521T190000
LOCATION:Kent Island 118 Study Room
DESCRIPTION:No appointment necessary. A lawyer will be available in the Library to the public for a free limited legal advice consultation on how to represent yourself and complete forms for...\nMore info: https://calendar.qaclibrary.org/event/15367117?hs=a\nActiveBury: https://www.activebury.com/events/4567
URL:https://www.activebury.com/events/4567
END:VEVENT
END:VCALENDAR
