BEGIN:VCALENDAR
VERSION:2.0
PRODID:-//ActiveBury//Events//EN
CALSCALE:GREGORIAN
BEGIN:VEVENT
UID:event-4566@activebury.com
DTSTAMP:20260424T224333Z
SUMMARY:Ukulele Hangout
DTSTART:20260521T153000
DTEND:20260521T163000
DESCRIPTION:Ukulele enthusiasts of all skill types are welcome! Bring your own ukulele or check out one of our own (while supplies last). Share the latest song you are working on or learn a...\nMore info: https://calendar.qaclibrary.org/event/16265346?hs=a\nActiveBury: https://www.activebury.com/events/4566
URL:https://www.activebury.com/events/4566
END:VEVENT
END:VCALENDAR
