BEGIN:VCALENDAR
VERSION:2.0
PRODID:-//ActiveBury//Events//EN
CALSCALE:GREGORIAN
BEGIN:VEVENT
UID:event-4565@activebury.com
DTSTAMP:20260424T224150Z
SUMMARY:Next Chapter Book Club
DTSTART:20260521T103000
DTEND:20260521T111500
LOCATION:Centreville Meeting Room
DESCRIPTION:Join this unique book club as we read aloud from a chapter book\, engage in discussion of the book\, highlight vocabulary\, and get creative. This book club is for adults with...\nMore info: https://calendar.qaclibrary.org/event/16094086?hs=a\nActiveBury: https://www.activebury.com/events/4565
URL:https://www.activebury.com/events/4565
END:VEVENT
END:VCALENDAR
