BEGIN:VCALENDAR
VERSION:2.0
PRODID:-//ActiveBury//Events//EN
CALSCALE:GREGORIAN
BEGIN:VEVENT
UID:event-4564@activebury.com
DTSTAMP:20260424T224151Z
SUMMARY:Social Services at the Library
DTSTART:20260520T130000
DTEND:20260520T163000
LOCATION:Kent Island 117 Study Room
DESCRIPTION:Come in anytime between 1:00 - 4:30pm to meet with a member of the Queen Anne's County Department of Social Services Family Investment Services team. Learn how to access resources...\nMore info: https://calendar.qaclibrary.org/event/15366937?hs=a\nActiveBury: https://www.activebury.com/events/4564
URL:https://www.activebury.com/events/4564
END:VEVENT
END:VCALENDAR
