BEGIN:VCALENDAR
VERSION:2.0
PRODID:-//ActiveBury//Events//EN
CALSCALE:GREGORIAN
BEGIN:VEVENT
UID:event-4561@activebury.com
DTSTAMP:20260424T224333Z
SUMMARY:Engraved Leather Heart Bookmarks (11+\, adults welcome)
DTSTART:20260518T153000
DTEND:20260518T173000
LOCATION:Kent Island Classroom
DESCRIPTION:Ages 11+\, adults welcome. Select from a few designs or get a little creative by doing your name/initials to engrave your own unique leather heart bookmark! This event has...\nMore info: https://calendar.qaclibrary.org/event/16255796?hs=a\nActiveBury: https://www.activebury.com/events/4561
URL:https://www.activebury.com/events/4561
END:VEVENT
END:VCALENDAR
