BEGIN:VCALENDAR
VERSION:2.0
PRODID:-//ActiveBury//Events//EN
CALSCALE:GREGORIAN
BEGIN:VEVENT
UID:event-4560@activebury.com
DTSTAMP:20260424T224327Z
SUMMARY:Tiny Art (4-17 yrs)
DTSTART:20260516T100000
DTEND:20260516T160000
LOCATION:Centreville Children's Room
DESCRIPTION:Ages: 4-17 Tiny art is a drop-in art experience where you can create tiny works of art using paint pens and mini canvases. Come by anytime between 10am and 4pm!\nMore info: https://calendar.qaclibrary.org/event/16032365?hs=a\nActiveBury: https://www.activebury.com/events/4560
URL:https://www.activebury.com/events/4560
END:VEVENT
END:VCALENDAR
